BEGIN:VCALENDAR
VERSION:2.0
PRODID:-//wp-events-plugin.com//7.2.3.1//EN
BEGIN:VEVENT
UID:11@lhpna.org
DTSTART:20260426T130000Z
DTEND:20260426T170000Z
DTSTAMP:20260331T143926Z
URL:https://lhpna.org/events/rooted-in-community/
SUMMARY:Rooted in Community
DESCRIPTION:What to Expect?\n\n 	Neighborhood Survey Results: See what your
  neighbors had to say.\n 	Upcoming Events &amp\; Opportunities: Be a part 
 of what is happening in West Allis\n 	Community Connection: Meet neighbors
 \, local partners &amp\; organizations\n 	Fun For All Ages: Activities\, h
 ands-on stations &amp\; refreshments\n\nWhy Attend?\nStrong communities gr
 ow when neighbors come together &amp\; share idea!\nHosted by:\nLiberty He
 ights Park Neighborhood Association (LHPNA)\n\n&nbsp\;
ATTACH;FMTTYPE=image/jpeg:https://lhpna.org/wp-content/uploads/2026/03/Roo
 ted.jpg
LOCATION:Liberty Heights Park Pavilion\, \, United States
X-APPLE-STRUCTURED-LOCATION;VALUE=URI;X-ADDRESS=\, United States;X-APPLE-RA
 DIUS=100;X-TITLE=Liberty Heights Park Pavilion:geo:0,0
END:VEVENT
END:VCALENDAR