BEGIN:VCALENDAR
VERSION:2.0
PRODID:-//wp-events-plugin.com//7.2.3.1//EN
BEGIN:VEVENT
UID:6@lhpna.org
DTSTART;TZID=America/Chicago:20251115T100000
DTEND;TZID=America/Chicago:20251115T110000
DTSTAMP:20251023T142734Z
URL:https://lhpna.org/events/neighborhood-coffee-meetups-3/
SUMMARY:Neighborhood Coffee Meetups
DESCRIPTION:Bi-monthly in-person gatherings to connect and discuss communit
 y updates.
ATTACH;FMTTYPE=image/jpeg:https://lhpna.org/wp-content/uploads/2025/07/cof
 fee.jpg
LOCATION:Lake Effect Coffee\, 6217 W Greenfield Ave\, West Allis\, Wisconsi
 n\, 53214\, United States
X-APPLE-STRUCTURED-LOCATION;VALUE=URI;X-ADDRESS=6217 W Greenfield Ave\, Wes
 t Allis\, Wisconsin\, 53214\, United States;X-APPLE-RADIUS=100;X-TITLE=Lak
 e Effect Coffee:geo:0,0
END:VEVENT
BEGIN:VTIMEZONE
TZID:America/Chicago
X-LIC-LOCATION:America/Chicago
BEGIN:STANDARD
DTSTART:20251102T010000
TZOFFSETFROM:-0500
TZOFFSETTO:-0600
TZNAME:CST
END:STANDARD
END:VTIMEZONE
END:VCALENDAR