BEGIN:VCALENDAR
VERSION:2.0
PRODID:-//wp-events-plugin.com//7.2.3.1//EN
BEGIN:VEVENT
UID:7@lhpna.org
DTSTART;TZID=America/Chicago:20251108T120000
DTEND;TZID=America/Chicago:20251108T160000
DTSTAMP:20260114T184859Z
URL:https://lhpna.org/events/liberty-heights-park-chili-contest/
SUMMARY:Liberty Heights Park Chili Contest
DESCRIPTION:Join us for the Liberty Heights Park Chili Contest\nSaturday\, 
 November 8th | 12:00–4:00 PM (rain date\, November 9th. Same times)\n\nL
 iberty Heights Park — Pavillion Covered Area (building if its ready)\n\n
 Sure\, the building may still not open but after 2 full years\, we’re no
 t waiting around — we’re making it happen anyway!\n\nFire pits\, warmi
 ng stations\, and hot competition are guaranteed.\nEven if it’s a chilly
  day for chili\, we know you’ll bring the heat!\n\nWhat to Bring:\nYour 
 chili masterpiece + serving utensil\n\nAny optional toppings or side flair
 \n\nYour own beverages\, card games\, or yard games (Because what’s a Wi
 sconsin event without cribbage?)\nLHPNA Provides:\nCornbread • Hot cider
  • Cold water • Table décor • Dishes &amp\; utensils\nREGISTER BY O
 CTOBER 30 AT 2 PM!\nNo secret recipes required\, but for allergy safety\, 
 please list your ingredients.\n\nhttps://www.surveymonkey.com/r/B2388DK\nO
 pen to residents\, local business operators\, and friends of LHPNA. A dona
 tion of $5 from all non-entrants is requested. This helps pay for propane 
 and party supplies for this and future events.\n\nCome for the chili\, sta
 y for the laughs\, and maybe… bragging rights.\n\nLet’s warm up Libert
 y Heights together — one bowl at a time.\n\n[imagely id="1"]\n\n#LHPNA #
 BringTheHeat #WestAllisEvents #NeighborhoodFun #ChiliContest
ATTACH;FMTTYPE=image/jpeg:https://lhpna.org/wp-content/uploads/2025/10/chi
 lli.jpg
LOCATION:Liberty Heights Park\, 6101 W. Orchard St.\, West Allis\, Wisconsi
 n\, 53214\, United States
X-APPLE-STRUCTURED-LOCATION;VALUE=URI;X-ADDRESS=6101 W. Orchard St.\, West 
 Allis\, Wisconsin\, 53214\, United States;X-APPLE-RADIUS=100;X-TITLE=Liber
 ty Heights Park:geo:0,0
END:VEVENT
BEGIN:VTIMEZONE
TZID:America/Chicago
X-LIC-LOCATION:America/Chicago
BEGIN:STANDARD
DTSTART:20251102T010000
TZOFFSETFROM:-0500
TZOFFSETTO:-0600
TZNAME:CST
END:STANDARD
END:VTIMEZONE
END:VCALENDAR