BEGIN:VCALENDAR
VERSION:2.0
PRODID:-//wp-events-plugin.com//7.2.3.1//EN
BEGIN:VEVENT
UID:3@lhpna.org
DTSTART:20250725T170000Z
DTEND:20250725T200000Z
DTSTAMP:20250717T000628Z
URL:https://lhpna.org/events/food-truck-friday/
SUMMARY:Food Truck Friday
DESCRIPTION:18+ food trucks\, live music by Party Marty &amp\; the Dirtbags
 \, art market\, family fun\, and craft beer.
LOCATION:West Allis Farmers Market\, 6501 W. National Ave\, West Allis\, Wi
 sconsin\, 53214\, United States
X-APPLE-STRUCTURED-LOCATION;VALUE=URI;X-ADDRESS=6501 W. National Ave\, West
  Allis\, Wisconsin\, 53214\, United States;X-APPLE-RADIUS=100;X-TITLE=West
  Allis Farmers Market:geo:0,0
END:VEVENT
END:VCALENDAR