BEGIN:VCALENDAR
VERSION:2.0
PRODID:-//wp-events-plugin.com//7.2.3.1//EN
BEGIN:VEVENT
UID:10@lhpna.org
DTSTART:20251117T180000Z
DTEND:20251117T180000Z
DTSTAMP:20251103T152721Z
URL:https://lhpna.org/events/community-conversation/
SUMMARY:Community Conversation
DESCRIPTION:Continuing the conversation: Building Solutions for Homeless Su
 pport in West Allis\n\nThank you for joining us for the recent Community C
 onversation on Homeless Supports. Your presence\, perspectives\, and thou
 ghtful contributions helped make the discussion both meaningful and produc
 tive. The strong turnout and engagement from residents\, nonprofit leaders
 \, and community partners demonstrated just how much our community cares a
 bout finding solutions that reflect compassion and collaboration.\n\nAs we
  look ahead\, we invite you to continue the conversation as we take the ne
 xt step — moving from dialogue to action. Together\, we’ll begin ident
 ifying priorities and developing community-led action items to address the
  concerns and ideas shared in our first meeting. We also encourage partici
 pants to bring information about resources\, programs\, or services that 
 support people experiencing homelessness or housing insecurity in West All
 is. Sharing what’s already happening locally will help us connect effort
 s\, fill gaps\, and strengthen the network of support in our community.\n\
 nA special thank you to our co-hosts for their leadership and partnership
  in bringing our community together:\n\nAurora Health Care West Allis • 
 City of West Allis • Liberty Heights Park Neighborhood Association • S
 outhwest Suburban Health Department • St. Barnabas Congregation • Stre
 et Angels • West Allis Fire Administration • West Allis Police Departm
 ent\n\nYour continued involvement is key as we work to create positive\, p
 ractical solutions that strengthen support for those experiencing homeless
 ness in West Allis.\n\nThank you again for your time\, insights\, and comm
 itment to our community. We hope to see you at the next session. Feel fre
 e to share this information among your networks and please consider bringi
 ng a non-perishable food item for our co-hosts with food pantries.
ATTACH;FMTTYPE=image/jpeg:https://lhpna.org/wp-content/uploads/2025/11/Com
 munity-Conversation.jpg
LOCATION:St Barnabas Parish at the St. Augustine Site\, 2025 S 67th Place\,
  West Allis\, Wisconsin\, 53214\, United States
X-APPLE-STRUCTURED-LOCATION;VALUE=URI;X-ADDRESS=2025 S 67th Place\, West Al
 lis\, Wisconsin\, 53214\, United States;X-APPLE-RADIUS=100;X-TITLE=St Barn
 abas Parish at the St. Augustine Site:geo:0,0
END:VEVENT
END:VCALENDAR